BEGIN:VCALENDAR
VERSION:2.0
PRODID:-//Alexander Findley Community Library - ECPv6.15.20//NONSGML v1.0//EN
CALSCALE:GREGORIAN
METHOD:PUBLISH
X-ORIGINAL-URL:https://findleylibrary.org
X-WR-CALDESC:Events for Alexander Findley Community Library
REFRESH-INTERVAL;VALUE=DURATION:PT1H
X-Robots-Tag:noindex
X-PUBLISHED-TTL:PT1H
BEGIN:VTIMEZONE
TZID:America/New_York
BEGIN:DAYLIGHT
TZOFFSETFROM:-0500
TZOFFSETTO:-0400
TZNAME:EDT
DTSTART:20220313T070000
END:DAYLIGHT
BEGIN:STANDARD
TZOFFSETFROM:-0400
TZOFFSETTO:-0500
TZNAME:EST
DTSTART:20221106T060000
END:STANDARD
BEGIN:DAYLIGHT
TZOFFSETFROM:-0500
TZOFFSETTO:-0400
TZNAME:EDT
DTSTART:20230312T070000
END:DAYLIGHT
BEGIN:STANDARD
TZOFFSETFROM:-0400
TZOFFSETTO:-0500
TZNAME:EST
DTSTART:20231105T060000
END:STANDARD
BEGIN:DAYLIGHT
TZOFFSETFROM:-0500
TZOFFSETTO:-0400
TZNAME:EDT
DTSTART:20240310T070000
END:DAYLIGHT
BEGIN:STANDARD
TZOFFSETFROM:-0400
TZOFFSETTO:-0500
TZNAME:EST
DTSTART:20241103T060000
END:STANDARD
END:VTIMEZONE
BEGIN:VEVENT
DTSTART;TZID=America/New_York:20230624T110000
DTEND;TZID=America/New_York:20230624T120000
DTSTAMP:20260420T040234
CREATED:20230620T203722Z
LAST-MODIFIED:20230620T203722Z
UID:4436-1687604400-1687608000@findleylibrary.org
SUMMARY:Garden Club
DESCRIPTION:Hello\, Green Thumbs! Join us this Saturday at 11 for the second meeting of the Garden Club! It might be raining\, but that’s okay\, we have plenty to work on inside. There will also be a sign up for anyone who is interested in participating in our Nature Journal program during Summer Reading (July 1-August 31). We can’t wait to see you!
URL:https://findleylibrary.org/event/garden-club/
LOCATION:Alexander Findley Community Library
CATEGORIES:Garden Club,Programming
END:VEVENT
END:VCALENDAR