BEGIN:VCALENDAR
VERSION:2.0
PRODID:-//Alexander Findley Community Library - ECPv6.15.20//NONSGML v1.0//EN
CALSCALE:GREGORIAN
METHOD:PUBLISH
X-WR-CALNAME:Alexander Findley Community Library
X-ORIGINAL-URL:https://findleylibrary.org
X-WR-CALDESC:Events for Alexander Findley Community Library
REFRESH-INTERVAL;VALUE=DURATION:PT1H
X-Robots-Tag:noindex
X-PUBLISHED-TTL:PT1H
BEGIN:VTIMEZONE
TZID:America/New_York
BEGIN:DAYLIGHT
TZOFFSETFROM:-0500
TZOFFSETTO:-0400
TZNAME:EDT
DTSTART:20230312T070000
END:DAYLIGHT
BEGIN:STANDARD
TZOFFSETFROM:-0400
TZOFFSETTO:-0500
TZNAME:EST
DTSTART:20231105T060000
END:STANDARD
BEGIN:DAYLIGHT
TZOFFSETFROM:-0500
TZOFFSETTO:-0400
TZNAME:EDT
DTSTART:20240310T070000
END:DAYLIGHT
BEGIN:STANDARD
TZOFFSETFROM:-0400
TZOFFSETTO:-0500
TZNAME:EST
DTSTART:20241103T060000
END:STANDARD
BEGIN:DAYLIGHT
TZOFFSETFROM:-0500
TZOFFSETTO:-0400
TZNAME:EDT
DTSTART:20250309T070000
END:DAYLIGHT
BEGIN:STANDARD
TZOFFSETFROM:-0400
TZOFFSETTO:-0500
TZNAME:EST
DTSTART:20251102T060000
END:STANDARD
END:VTIMEZONE
BEGIN:VEVENT
DTSTART;TZID=America/New_York:20240713T110000
DTEND;TZID=America/New_York:20240713T120000
DTSTAMP:20260420T213440
CREATED:20240706T161230Z
LAST-MODIFIED:20240706T161230Z
UID:5462-1720868400-1720872000@findleylibrary.org
SUMMARY:Saturday Storytime: Bubbles!
DESCRIPTION:
URL:https://findleylibrary.org/event/saturday-storytime-bubbles/
LOCATION:Alexander Findley Community Library
CATEGORIES:Craft,Just For Fun,storytime,Summer Reading
END:VEVENT
BEGIN:VEVENT
DTSTART;TZID=America/New_York:20240717T100000
DTEND;TZID=America/New_York:20240717T110000
DTSTAMP:20260420T213440
CREATED:20240715T131110Z
LAST-MODIFIED:20240715T134645Z
UID:5499-1721210400-1721214000@findleylibrary.org
SUMMARY:Bubble Painting
DESCRIPTION:Wednesdays with Summer Recreation Week 1\nThis week we’ll be trying our hand at bubble painting! This event is held for the kids attending Summer Recreation at the Mina Community Center\, but all our patrons are welcome to join in on the fun!
URL:https://findleylibrary.org/event/summer-reading-wednesday-with-summer-recreation-kids/
LOCATION:Alexander Findley Community Library
CATEGORIES:Craft,Just For Fun,Programming,Summer Reading
END:VEVENT
BEGIN:VEVENT
DTSTART;TZID=America/New_York:20240720T110000
DTEND;TZID=America/New_York:20240720T120000
DTSTAMP:20260420T213440
CREATED:20240706T164013Z
LAST-MODIFIED:20240706T164013Z
UID:5465-1721473200-1721476800@findleylibrary.org
SUMMARY:Saturday Storytime: Crocs!
DESCRIPTION:
URL:https://findleylibrary.org/event/saturday-storytime-crocs/
LOCATION:Alexander Findley Community Library
CATEGORIES:Craft,Just For Fun,Programming,storytime,Summer Reading
END:VEVENT
BEGIN:VEVENT
DTSTART;TZID=America/New_York:20240731T100000
DTEND;TZID=America/New_York:20240731T110000
DTSTAMP:20260420T213440
CREATED:20240715T132134Z
LAST-MODIFIED:20240715T132457Z
UID:5506-1722420000-1722423600@findleylibrary.org
SUMMARY:Could You Be a Grape Farmer?
DESCRIPTION:Wednesdays with Summer Recreation Week 3\nJosie Allen from the Cornell Cooperative Extension will be here to see if we have what it takes to be a grape farmer. This event is held for the kids attending the Summer Recreation at the Mina Community Center\, but all our patrons are welcome to join in!
URL:https://findleylibrary.org/event/could-you-be-a-grape-farmer/
LOCATION:Alexander Findley Community Library
CATEGORIES:Programming,storytime,Summer Reading
END:VEVENT
END:VCALENDAR