BEGIN:VCALENDAR
VERSION:2.0
PRODID:-//Alexander Findley Community Library - ECPv6.15.20//NONSGML v1.0//EN
CALSCALE:GREGORIAN
METHOD:PUBLISH
X-ORIGINAL-URL:https://findleylibrary.org
X-WR-CALDESC:Events for Alexander Findley Community Library
REFRESH-INTERVAL;VALUE=DURATION:PT1H
X-Robots-Tag:noindex
X-PUBLISHED-TTL:PT1H
BEGIN:VTIMEZONE
TZID:America/New_York
BEGIN:DAYLIGHT
TZOFFSETFROM:-0500
TZOFFSETTO:-0400
TZNAME:EDT
DTSTART:20230312T070000
END:DAYLIGHT
BEGIN:STANDARD
TZOFFSETFROM:-0400
TZOFFSETTO:-0500
TZNAME:EST
DTSTART:20231105T060000
END:STANDARD
BEGIN:DAYLIGHT
TZOFFSETFROM:-0500
TZOFFSETTO:-0400
TZNAME:EDT
DTSTART:20240310T070000
END:DAYLIGHT
BEGIN:STANDARD
TZOFFSETFROM:-0400
TZOFFSETTO:-0500
TZNAME:EST
DTSTART:20241103T060000
END:STANDARD
BEGIN:DAYLIGHT
TZOFFSETFROM:-0500
TZOFFSETTO:-0400
TZNAME:EDT
DTSTART:20250309T070000
END:DAYLIGHT
BEGIN:STANDARD
TZOFFSETFROM:-0400
TZOFFSETTO:-0500
TZNAME:EST
DTSTART:20251102T060000
END:STANDARD
END:VTIMEZONE
BEGIN:VEVENT
DTSTART;TZID=America/New_York:20240406T110000
DTEND;TZID=America/New_York:20240406T120000
DTSTAMP:20260421T020344
CREATED:20240312T185902Z
LAST-MODIFIED:20240312T185902Z
UID:5125-1712401200-1712404800@findleylibrary.org
SUMMARY:Solar Eclipse Storytime!
DESCRIPTION:Join us on Saturday\, April 6th at 11am for a Solar Eclipse Storytime! We’ll hear stories about the sun and the moon\, do a craft\, and learn a bit about the upcoming Solar Eclipse! Plus\, we’ll hand out free eclipse glasses (while supplies last)!
URL:https://findleylibrary.org/event/solar-eclipse-storytime/
LOCATION:Alexander Findley Community Library
CATEGORIES:Craft,Programming,storytime
END:VEVENT
END:VCALENDAR