BEGIN:VCALENDAR
VERSION:2.0
PRODID:-//Alexander Findley Community Library - ECPv6.15.20//NONSGML v1.0//EN
CALSCALE:GREGORIAN
METHOD:PUBLISH
X-WR-CALNAME:Alexander Findley Community Library
X-ORIGINAL-URL:https://findleylibrary.org
X-WR-CALDESC:Events for Alexander Findley Community Library
REFRESH-INTERVAL;VALUE=DURATION:PT1H
X-Robots-Tag:noindex
X-PUBLISHED-TTL:PT1H
BEGIN:VTIMEZONE
TZID:America/New_York
BEGIN:DAYLIGHT
TZOFFSETFROM:-0500
TZOFFSETTO:-0400
TZNAME:EDT
DTSTART:20230312T070000
END:DAYLIGHT
BEGIN:STANDARD
TZOFFSETFROM:-0400
TZOFFSETTO:-0500
TZNAME:EST
DTSTART:20231105T060000
END:STANDARD
BEGIN:DAYLIGHT
TZOFFSETFROM:-0500
TZOFFSETTO:-0400
TZNAME:EDT
DTSTART:20240310T070000
END:DAYLIGHT
BEGIN:STANDARD
TZOFFSETFROM:-0400
TZOFFSETTO:-0500
TZNAME:EST
DTSTART:20241103T060000
END:STANDARD
BEGIN:DAYLIGHT
TZOFFSETFROM:-0500
TZOFFSETTO:-0400
TZNAME:EDT
DTSTART:20250309T070000
END:DAYLIGHT
BEGIN:STANDARD
TZOFFSETFROM:-0400
TZOFFSETTO:-0500
TZNAME:EST
DTSTART:20251102T060000
END:STANDARD
END:VTIMEZONE
BEGIN:VEVENT
DTSTART;TZID=America/New_York:20240323T110000
DTEND;TZID=America/New_York:20240323T120000
DTSTAMP:20260421T032512
CREATED:20240224T145645Z
LAST-MODIFIED:20240224T145856Z
UID:5018-1711191600-1711195200@findleylibrary.org
SUMMARY:Agricultural Literacy Week Storytime: I Love Strawberries!
DESCRIPTION:March 18th-22nd is Agricultural Literacy Week. Volunteers will read an agricultural book to kids across Chautauqua County in an effort to increase agricultural education. Ag. Lit. week is a celebration of our county’s legacy and the hard work of those who produce healthy\, local food\, 365 days a year! Join in the learning and fun as Josie from the Cornell Cooperative Extension comes for a special Storytime. She will read I Love Strawberries by Shannon Anderson. Come for the story\, and stay for a craft and activities.
URL:https://findleylibrary.org/event/storytime-for-ag-literacy-week/
LOCATION:Alexander Findley Community Library
CATEGORIES:Craft,Just For Fun,Programming,storytime
END:VEVENT
END:VCALENDAR