BEGIN:VCALENDAR
VERSION:2.0
PRODID:-//Alexander Findley Community Library - ECPv6.15.20//NONSGML v1.0//EN
CALSCALE:GREGORIAN
METHOD:PUBLISH
X-WR-CALNAME:Alexander Findley Community Library
X-ORIGINAL-URL:https://findleylibrary.org
X-WR-CALDESC:Events for Alexander Findley Community Library
REFRESH-INTERVAL;VALUE=DURATION:PT1H
X-Robots-Tag:noindex
X-PUBLISHED-TTL:PT1H
BEGIN:VTIMEZONE
TZID:America/New_York
BEGIN:DAYLIGHT
TZOFFSETFROM:-0500
TZOFFSETTO:-0400
TZNAME:EDT
DTSTART:20230312T070000
END:DAYLIGHT
BEGIN:STANDARD
TZOFFSETFROM:-0400
TZOFFSETTO:-0500
TZNAME:EST
DTSTART:20231105T060000
END:STANDARD
BEGIN:DAYLIGHT
TZOFFSETFROM:-0500
TZOFFSETTO:-0400
TZNAME:EDT
DTSTART:20240310T070000
END:DAYLIGHT
BEGIN:STANDARD
TZOFFSETFROM:-0400
TZOFFSETTO:-0500
TZNAME:EST
DTSTART:20241103T060000
END:STANDARD
BEGIN:DAYLIGHT
TZOFFSETFROM:-0500
TZOFFSETTO:-0400
TZNAME:EDT
DTSTART:20250309T070000
END:DAYLIGHT
BEGIN:STANDARD
TZOFFSETFROM:-0400
TZOFFSETTO:-0500
TZNAME:EST
DTSTART:20251102T060000
END:STANDARD
END:VTIMEZONE
BEGIN:VEVENT
DTSTART;TZID=America/New_York:20240718T180000
DTEND;TZID=America/New_York:20240718T190000
DTSTAMP:20260425T112840
CREATED:20240622T174632Z
LAST-MODIFIED:20240622T174632Z
UID:5438-1721325600-1721329200@findleylibrary.org
SUMMARY:Book Club
DESCRIPTION:Join us in the library for a discussion of July’s book\, Let Us Descend by Jesmyn Ward. \nSummary: \n“‘Let us descend\,’ the poet now began\, ‘and enter this blind world.’” — Inferno\, Dante Alighieri \nLet Us Descend is a reimagining of American slavery\, as beautifully rendered as it is heart-wrenching. Searching\, harrowing\, replete with transcendent love\, the novel is a journey from the rice fields of the Carolinas to the slave markets of New Orleans and into the fearsome heart of a Louisiana sugar plantation. \nAnnis\, sold south by the white enslaver who fathered her\, is the reader’s guide through this hellscape. As she struggles through the miles-long march\, Annis turns inward\, seeking comfort from memories of her mother and stories of her African warrior grandmother. Throughout\, she opens herself to a world beyond this world\, one teeming with of earth and water\, of myth and history; spirits who nurture and give\, and those who manipulate and take. While Ward leads readers through the descent\, this\, her fourth novel\, is ultimately a story of rebirth and reclamation. \nFrom one of the most singularly brilliant and beloved writers of her generation\, this miracle of a novel inscribes Black American grief and joy into the very land—the rich but unforgiving forests\, swamps\, and rivers of the American South. Let Us Descend is Jesmyn Ward’s most magnificent novel yet\, a masterwork for the ages.” (via goodreads)
URL:https://findleylibrary.org/event/book-club-44/
LOCATION:Alexander Findley Community Library
CATEGORIES:Book Club,Just For Fun,Programming,Summer Reading
END:VEVENT
END:VCALENDAR