BEGIN:VCALENDAR
VERSION:2.0
PRODID:-//Alexander Findley Community Library - ECPv6.15.20//NONSGML v1.0//EN
CALSCALE:GREGORIAN
METHOD:PUBLISH
X-ORIGINAL-URL:https://findleylibrary.org
X-WR-CALDESC:Events for Alexander Findley Community Library
REFRESH-INTERVAL;VALUE=DURATION:PT1H
X-Robots-Tag:noindex
X-PUBLISHED-TTL:PT1H
BEGIN:VTIMEZONE
TZID:America/New_York
BEGIN:DAYLIGHT
TZOFFSETFROM:-0500
TZOFFSETTO:-0400
TZNAME:EDT
DTSTART:20230312T070000
END:DAYLIGHT
BEGIN:STANDARD
TZOFFSETFROM:-0400
TZOFFSETTO:-0500
TZNAME:EST
DTSTART:20231105T060000
END:STANDARD
BEGIN:DAYLIGHT
TZOFFSETFROM:-0500
TZOFFSETTO:-0400
TZNAME:EDT
DTSTART:20240310T070000
END:DAYLIGHT
BEGIN:STANDARD
TZOFFSETFROM:-0400
TZOFFSETTO:-0500
TZNAME:EST
DTSTART:20241103T060000
END:STANDARD
BEGIN:DAYLIGHT
TZOFFSETFROM:-0500
TZOFFSETTO:-0400
TZNAME:EDT
DTSTART:20250309T070000
END:DAYLIGHT
BEGIN:STANDARD
TZOFFSETFROM:-0400
TZOFFSETTO:-0500
TZNAME:EST
DTSTART:20251102T060000
END:STANDARD
END:VTIMEZONE
BEGIN:VEVENT
DTSTART;TZID=America/New_York:20240418T180000
DTEND;TZID=America/New_York:20240418T190000
DTSTAMP:20260425T074220
CREATED:20240323T175415Z
LAST-MODIFIED:20240323T175455Z
UID:5168-1713463200-1713466800@findleylibrary.org
SUMMARY:Book Club
DESCRIPTION:Join us in the library for a discussion of April’s book\, My Sister\, the Serial Killer by Oyinkan Braithwaite. \n  \nSummary: \n“When Korede’s dinner is interrupted one night by a distress call from her sister\, Ayoola\, she knows what’s expected of her: bleach\, rubber gloves\, nerves of steel and a strong stomach. This’ll be the third boyfriend Ayoola’s dispatched in\, quote\, self-defence and the third mess that her lethal little sibling has left Korede to clear away. She should probably go to the police for the good of the menfolk of Nigeria\, but she loves her sister and\, as they say\, family always comes first. Until\, that is\, Ayoola starts dating the doctor where Korede works as a nurse. Korede’s long been in love with him\, and isn’t prepared to see him wind up with a knife in his back: but to save one would mean sacrificing the other…” (via goodreads)
URL:https://findleylibrary.org/event/book-club-41/
LOCATION:Alexander Findley Community Library
CATEGORIES:Book Club,Just For Fun,Programming
END:VEVENT
END:VCALENDAR