BEGIN:VCALENDAR
VERSION:2.0
PRODID:-//Alexander Findley Community Library - ECPv6.15.20//NONSGML v1.0//EN
CALSCALE:GREGORIAN
METHOD:PUBLISH
X-ORIGINAL-URL:https://findleylibrary.org
X-WR-CALDESC:Events for Alexander Findley Community Library
REFRESH-INTERVAL;VALUE=DURATION:PT1H
X-Robots-Tag:noindex
X-PUBLISHED-TTL:PT1H
BEGIN:VTIMEZONE
TZID:America/New_York
BEGIN:DAYLIGHT
TZOFFSETFROM:-0500
TZOFFSETTO:-0400
TZNAME:EDT
DTSTART:20230312T070000
END:DAYLIGHT
BEGIN:STANDARD
TZOFFSETFROM:-0400
TZOFFSETTO:-0500
TZNAME:EST
DTSTART:20231105T060000
END:STANDARD
BEGIN:DAYLIGHT
TZOFFSETFROM:-0500
TZOFFSETTO:-0400
TZNAME:EDT
DTSTART:20240310T070000
END:DAYLIGHT
BEGIN:STANDARD
TZOFFSETFROM:-0400
TZOFFSETTO:-0500
TZNAME:EST
DTSTART:20241103T060000
END:STANDARD
BEGIN:DAYLIGHT
TZOFFSETFROM:-0500
TZOFFSETTO:-0400
TZNAME:EDT
DTSTART:20250309T070000
END:DAYLIGHT
BEGIN:STANDARD
TZOFFSETFROM:-0400
TZOFFSETTO:-0500
TZNAME:EST
DTSTART:20251102T060000
END:STANDARD
END:VTIMEZONE
BEGIN:VEVENT
DTSTART;TZID=America/New_York:20240118T180000
DTEND;TZID=America/New_York:20240118T190000
DTSTAMP:20260425T232952
CREATED:20240106T173708Z
LAST-MODIFIED:20240106T173708Z
UID:4891-1705600800-1705604400@findleylibrary.org
SUMMARY:Book Club
DESCRIPTION:Join us in the library for a discussion of this month’s book\, The Children on the Hill by Jennifer McMahon. \nSummary: \n“A genre-defying new novel\, inspired by Mary Shelley’s masterpiece Frankenstein\, which brilliantly explores the eerie mysteries of childhood and the evils perpetrated by the monsters among us. \n1978: at her renowned treatment center in picturesque Vermont\, the brilliant psychiatrist\, Dr. Helen Hildreth\, is acclaimed for her compassionate work with the mentally ill. But when she’s home with her cherished grandchildren\, Vi and Eric\, she’s just Gran—teaching them how to take care of their pets\, preparing them home-cooked meals\, providing them with care and attention and love. \nThen one day Gran brings home a child to stay with the family. Iris—silent\, hollow-eyed\, skittish\, and feral—does not behave like a normal girl. \nStill\, Violet is thrilled to have a new playmate. She and Eric invite Iris to join their Monster Club\, where they catalogue all kinds of monsters and dream up ways to defeat them. Before long\, Iris begins to come out of her shell. She and Vi and Eric do everything together: ride their bicycles\, go to the drive-in\, meet at their clubhouse in secret to hunt monsters. Because\, as Vi explains\, monsters are everywhere. \n2019: Lizzy Shelley\, the host of the popular podcast Monsters Among Us\, is traveling to Vermont\, where a young girl has been abducted\, and a monster sighting has the town in an uproar. She’s determined to hunt it down\, because Lizzy knows better than anyone that monsters are real—and one of them is her very own sister.” (via goodreads)
URL:https://findleylibrary.org/event/book-club-38/
LOCATION:Alexander Findley Community Library
CATEGORIES:Book Club
END:VEVENT
END:VCALENDAR