BEGIN:VCALENDAR
VERSION:2.0
PRODID:-//Alexander Findley Community Library - ECPv6.15.20//NONSGML v1.0//EN
CALSCALE:GREGORIAN
METHOD:PUBLISH
X-WR-CALNAME:Alexander Findley Community Library
X-ORIGINAL-URL:https://findleylibrary.org
X-WR-CALDESC:Events for Alexander Findley Community Library
REFRESH-INTERVAL;VALUE=DURATION:PT1H
X-Robots-Tag:noindex
X-PUBLISHED-TTL:PT1H
BEGIN:VTIMEZONE
TZID:America/New_York
BEGIN:DAYLIGHT
TZOFFSETFROM:-0500
TZOFFSETTO:-0400
TZNAME:EDT
DTSTART:20230312T070000
END:DAYLIGHT
BEGIN:STANDARD
TZOFFSETFROM:-0400
TZOFFSETTO:-0500
TZNAME:EST
DTSTART:20231105T060000
END:STANDARD
BEGIN:DAYLIGHT
TZOFFSETFROM:-0500
TZOFFSETTO:-0400
TZNAME:EDT
DTSTART:20240310T070000
END:DAYLIGHT
BEGIN:STANDARD
TZOFFSETFROM:-0400
TZOFFSETTO:-0500
TZNAME:EST
DTSTART:20241103T060000
END:STANDARD
BEGIN:DAYLIGHT
TZOFFSETFROM:-0500
TZOFFSETTO:-0400
TZNAME:EDT
DTSTART:20250309T070000
END:DAYLIGHT
BEGIN:STANDARD
TZOFFSETFROM:-0400
TZOFFSETTO:-0500
TZNAME:EST
DTSTART:20251102T060000
END:STANDARD
END:VTIMEZONE
BEGIN:VEVENT
DTSTART;TZID=America/New_York:20240620T180000
DTEND;TZID=America/New_York:20240620T190000
DTSTAMP:20260423T225809
CREATED:20240511T134029Z
LAST-MODIFIED:20240511T134029Z
UID:5326-1718906400-1718910000@findleylibrary.org
SUMMARY:Book Club
DESCRIPTION:Join us in the library for a discussion of June’s book Sarah’s Key by Tatiana de Rosnay. \nSummary: \n“Paris\, July 1942: Ten-year-old Sarah is brutally arrested with her family in the Vel’ d’Hiv’ roundup\, the most notorious act of French collaboration with the Nazis. but before the police come to take them\, Sarah locks her younger brother\, Michel\, in their favorite hiding place\, a cupboard in the family’s apartment. She keeps the key\, thinking that she will be back within a few hours. \nParis\, May 2002: On Vel’ d’Hiv’s sixtieth anniversary\, Julia Jarmond\, an American journalist\, is asked by her Paris-based American magazine to write an article about this black day in France’s past. Julia has lived in Paris for nearly twenty-five years\, married a Frenchman\, and she is shocked both by her ignorance about the event and the silence that still surrounds it. In the course of her investigation\, she stumbles onto a trail of long-hidden family secrets that connects her to Sarah. Julia finds herself compelled to retrace the girl’s ordeal\, from the terrible days spent shut in at the Vel’ d’Hiv’ to the camps and beyond. As she probes into Sarah’s past\, she begins to question her own place in France and to reevaluate her marriage and her life. \nWriting about the fate of her country with a pitiless clarity\, Tatiana de Rosnay offers us a brilliantly subtle\, compelling portrait of France under occupation and reveals the taboos and denial surrounding this painful episode in French history.” (via goodreads)
URL:https://findleylibrary.org/event/book-club-43/
LOCATION:Alexander Findley Community Library
CATEGORIES:Book Club,Just For Fun,Programming
END:VEVENT
END:VCALENDAR