BEGIN:VCALENDAR
VERSION:2.0
PRODID:-//Alexander Findley Community Library - ECPv6.15.20//NONSGML v1.0//EN
CALSCALE:GREGORIAN
METHOD:PUBLISH
X-ORIGINAL-URL:https://findleylibrary.org
X-WR-CALDESC:Events for Alexander Findley Community Library
REFRESH-INTERVAL;VALUE=DURATION:PT1H
X-Robots-Tag:noindex
X-PUBLISHED-TTL:PT1H
BEGIN:VTIMEZONE
TZID:America/New_York
BEGIN:DAYLIGHT
TZOFFSETFROM:-0500
TZOFFSETTO:-0400
TZNAME:EDT
DTSTART:20240310T070000
END:DAYLIGHT
BEGIN:STANDARD
TZOFFSETFROM:-0400
TZOFFSETTO:-0500
TZNAME:EST
DTSTART:20241103T060000
END:STANDARD
BEGIN:DAYLIGHT
TZOFFSETFROM:-0500
TZOFFSETTO:-0400
TZNAME:EDT
DTSTART:20250309T070000
END:DAYLIGHT
BEGIN:STANDARD
TZOFFSETFROM:-0400
TZOFFSETTO:-0500
TZNAME:EST
DTSTART:20251102T060000
END:STANDARD
BEGIN:DAYLIGHT
TZOFFSETFROM:-0500
TZOFFSETTO:-0400
TZNAME:EDT
DTSTART:20260308T070000
END:DAYLIGHT
BEGIN:STANDARD
TZOFFSETFROM:-0400
TZOFFSETTO:-0500
TZNAME:EST
DTSTART:20261101T060000
END:STANDARD
BEGIN:DAYLIGHT
TZOFFSETFROM:-0500
TZOFFSETTO:-0400
TZNAME:EDT
DTSTART:20270314T070000
END:DAYLIGHT
BEGIN:STANDARD
TZOFFSETFROM:-0400
TZOFFSETTO:-0500
TZNAME:EST
DTSTART:20271107T060000
END:STANDARD
END:VTIMEZONE
BEGIN:VEVENT
DTSTART;TZID=America/New_York:20250823T110000
DTEND;TZID=America/New_York:20250823T120000
DTSTAMP:20260425T084553
CREATED:20250728T170316Z
LAST-MODIFIED:20250807T205502Z
UID:6654-1755946800-1755950400@findleylibrary.org
SUMMARY:Saturday Storytime: Sugar Watercolor!
DESCRIPTION:
URL:https://findleylibrary.org/event/saturday-storytime-11/
LOCATION:Alexander Findley Community Library
CATEGORIES:Craft,Programming,storytime,Summer Reading
END:VEVENT
BEGIN:VEVENT
DTSTART;TZID=America/New_York:20250823T120000
DTEND;TZID=America/New_York:20250823T133000
DTSTAMP:20260425T084553
CREATED:20250728T165803Z
LAST-MODIFIED:20250728T165803Z
UID:6644-1755950400-1755955800@findleylibrary.org
SUMMARY:Free Art Time!
DESCRIPTION:
URL:https://findleylibrary.org/event/free-art-time-5/
LOCATION:Alexander Findley Community Library
CATEGORIES:Craft,Just For Fun,Programming,Summer Reading
END:VEVENT
BEGIN:VEVENT
DTSTART;TZID=America/New_York:20250830T110000
DTEND;TZID=America/New_York:20250830T120000
DTSTAMP:20260425T084553
CREATED:20250728T162752Z
LAST-MODIFIED:20250728T162752Z
UID:6624-1756551600-1756555200@findleylibrary.org
SUMMARY:1000 Hours Outside-Inspired Activity: Bubble Play Day!
DESCRIPTION:We’ll be blowing lots of bubbles! Wear clothes that can get messy!
URL:https://findleylibrary.org/event/1000-hours-outside-inspired-activity-bubble-play-day/
LOCATION:Alexander Findley Community Library
CATEGORIES:1000 Hours Outside Activity,Just For Fun,Programming,Summer Reading
END:VEVENT
BEGIN:VEVENT
DTSTART;TZID=America/New_York:20250830T120000
DTEND;TZID=America/New_York:20250830T133000
DTSTAMP:20260425T084553
CREATED:20250728T165920Z
LAST-MODIFIED:20250807T205738Z
UID:6646-1756555200-1756560600@findleylibrary.org
SUMMARY:End of Summer Reading Shindig!
DESCRIPTION:
URL:https://findleylibrary.org/event/end-of-summer-reading-shindig-2/
LOCATION:Alexander Findley Community Library
CATEGORIES:Just For Fun,Programming,Summer Reading
END:VEVENT
BEGIN:VEVENT
DTSTART;TZID=America/New_York:20260709T150000
DTEND;TZID=America/New_York:20260709T170000
DTSTAMP:20260425T084553
CREATED:20251230T153726Z
LAST-MODIFIED:20251230T154118Z
UID:7086-1783609200-1783616400@findleylibrary.org
SUMMARY:Arts and Crafts for Grownups
DESCRIPTION:Coming soon!
URL:https://findleylibrary.org/event/arts-and-crafts-for-grownups-7/
LOCATION:Alexander Findley Community Library
CATEGORIES:Craft,Programming,Summer Reading
END:VEVENT
BEGIN:VEVENT
DTSTART;TZID=America/New_York:20260813T150000
DTEND;TZID=America/New_York:20260813T170000
DTSTAMP:20260425T084553
CREATED:20251230T153943Z
LAST-MODIFIED:20251230T154104Z
UID:7088-1786633200-1786640400@findleylibrary.org
SUMMARY:Arts and Crafts for Grownups
DESCRIPTION:Coming soon!
URL:https://findleylibrary.org/event/arts-and-crafts-for-grownups-8/
LOCATION:Alexander Findley Community Library
CATEGORIES:Craft,Programming,Summer Reading
END:VEVENT
END:VCALENDAR