BEGIN:VCALENDAR
VERSION:2.0
PRODID:-//Alexander Findley Community Library - ECPv6.15.20//NONSGML v1.0//EN
CALSCALE:GREGORIAN
METHOD:PUBLISH
X-WR-CALNAME:Alexander Findley Community Library
X-ORIGINAL-URL:https://findleylibrary.org
X-WR-CALDESC:Events for Alexander Findley Community Library
REFRESH-INTERVAL;VALUE=DURATION:PT1H
X-Robots-Tag:noindex
X-PUBLISHED-TTL:PT1H
BEGIN:VTIMEZONE
TZID:America/New_York
BEGIN:DAYLIGHT
TZOFFSETFROM:-0500
TZOFFSETTO:-0400
TZNAME:EDT
DTSTART:20210314T070000
END:DAYLIGHT
BEGIN:STANDARD
TZOFFSETFROM:-0400
TZOFFSETTO:-0500
TZNAME:EST
DTSTART:20211107T060000
END:STANDARD
BEGIN:DAYLIGHT
TZOFFSETFROM:-0500
TZOFFSETTO:-0400
TZNAME:EDT
DTSTART:20220313T070000
END:DAYLIGHT
BEGIN:STANDARD
TZOFFSETFROM:-0400
TZOFFSETTO:-0500
TZNAME:EST
DTSTART:20221106T060000
END:STANDARD
BEGIN:DAYLIGHT
TZOFFSETFROM:-0500
TZOFFSETTO:-0400
TZNAME:EDT
DTSTART:20230312T070000
END:DAYLIGHT
BEGIN:STANDARD
TZOFFSETFROM:-0400
TZOFFSETTO:-0500
TZNAME:EST
DTSTART:20231105T060000
END:STANDARD
BEGIN:DAYLIGHT
TZOFFSETFROM:-0500
TZOFFSETTO:-0400
TZNAME:EDT
DTSTART:20240310T070000
END:DAYLIGHT
BEGIN:STANDARD
TZOFFSETFROM:-0400
TZOFFSETTO:-0500
TZNAME:EST
DTSTART:20241103T060000
END:STANDARD
END:VTIMEZONE
BEGIN:VEVENT
DTSTART;TZID=America/New_York:20230914T150000
DTEND;TZID=America/New_York:20230914T170000
DTSTAMP:20260424T014940
CREATED:20230905T202452Z
LAST-MODIFIED:20230905T202452Z
UID:4639-1694703600-1694710800@findleylibrary.org
SUMMARY:Arts & Crafts for Adults
DESCRIPTION:
URL:https://findleylibrary.org/event/arts-crafts-for-adults-14/
LOCATION:Alexander Findley Community Library
CATEGORIES:Craft,Just For Fun
END:VEVENT
BEGIN:VEVENT
DTSTART;TZID=America/New_York:20230826T110000
DTEND;TZID=America/New_York:20230826T120000
DTSTAMP:20260424T014940
CREATED:20230720T212803Z
LAST-MODIFIED:20230720T212803Z
UID:4545-1693047600-1693051200@findleylibrary.org
SUMMARY:Garden Club
DESCRIPTION:Show off your Nature Journal and check in on the garden!
URL:https://findleylibrary.org/event/garden-club-3/
LOCATION:Alexander Findley Community Library
CATEGORIES:Garden Club,Just For Fun,Programming,Summer Reading
END:VEVENT
BEGIN:VEVENT
DTSTART;TZID=America/New_York:20230817T180000
DTEND;TZID=America/New_York:20230817T190000
DTSTAMP:20260424T014940
CREATED:20230620T205320Z
LAST-MODIFIED:20230620T205320Z
UID:4443-1692295200-1692298800@findleylibrary.org
SUMMARY:Book Club
DESCRIPTION:Meet us in the library at 6pm for discussion of July’s book\, Olive\, Again by Elizabeth Strout. As part of Summer Reading\, this is the follow-up book to Olive Kitteridge that we read in June. \nSummary: \nPrickly\, wry\, resistant to change yet ruthlessly honest and deeply empathetic\, Olive Kitteridge is “a compelling life force” (San Francisco Chronicle). The New Yorker has said that Elizabeth Strout “animates the ordinary with an astonishing force\,” and she has never done so more clearly than in these pages\, where the iconic Olive struggles to understand not only herself and her own life but the lives of those around her in the town of Crosby\, Maine. Whether with a teenager coming to terms with the loss of her father\, a young woman about to give birth during a hilariously inopportune moment\, a nurse who confesses a secret high school crush\, or a lawyer who struggles with an inheritance she does not want to accept\, the unforgettable Olive will continue to startle us\, to move us\, and to inspire us—in Strout’s words—“to bear the burden of the mystery with as much grace as we can.” (via goodreads)
URL:https://findleylibrary.org/event/book-club-33/
LOCATION:Alexander Findley Community Library
CATEGORIES:Book Club,Just For Fun,Programming,Summer Reading
END:VEVENT
BEGIN:VEVENT
DTSTART;TZID=America/New_York:20230817T170000
DTEND;TZID=America/New_York:20230817T180000
DTSTAMP:20260424T014940
CREATED:20230812T141242Z
LAST-MODIFIED:20230812T141242Z
UID:4585-1692291600-1692295200@findleylibrary.org
SUMMARY:Author Talk: Destiny Kinal
DESCRIPTION:
URL:https://findleylibrary.org/event/author-talk-destiny-kinal/
LOCATION:Alexander Findley Community Library
CATEGORIES:Author Talk,Just For Fun,Programming,Summer Reading
END:VEVENT
BEGIN:VEVENT
DTSTART;TZID=America/New_York:20230810T150000
DTEND;TZID=America/New_York:20230810T170000
DTSTAMP:20260424T014940
CREATED:20230720T212411Z
LAST-MODIFIED:20230727T191036Z
UID:4541-1691679600-1691686800@findleylibrary.org
SUMMARY:Arts & Crafts for Adults
DESCRIPTION:Pots from our first go-round in May.\nWe’re going to découpage terra cotta pots again—but smaller ones this time. They’re going to be so cute! All supplies are provided\, so come visit us\, have some fun\, make a bit of a mess!
URL:https://findleylibrary.org/event/arts-crafts-for-adults-13/
LOCATION:Alexander Findley Community Library
CATEGORIES:Craft,Just For Fun,Programming,Summer Reading
END:VEVENT
BEGIN:VEVENT
DTSTART;TZID=America/New_York:20230729T110000
DTEND;TZID=America/New_York:20230729T130000
DTSTAMP:20260424T014940
CREATED:20230620T211321Z
LAST-MODIFIED:20230722T174605Z
UID:4448-1690628400-1690635600@findleylibrary.org
SUMMARY:Garden Club
DESCRIPTION:
URL:https://findleylibrary.org/event/garden-club-2/
LOCATION:Alexander Findley Community Library
CATEGORIES:Garden Club,Just For Fun,Programming,Summer Reading
END:VEVENT
BEGIN:VEVENT
DTSTART;TZID=America/New_York:20230720T180000
DTEND;TZID=America/New_York:20230720T190000
DTSTAMP:20260424T014940
CREATED:20230620T204243Z
LAST-MODIFIED:20230620T204243Z
UID:4438-1689876000-1689879600@findleylibrary.org
SUMMARY:Book Club
DESCRIPTION:Join us in the library at 6pm for a discussion of July’s book\, Olive Kitteridge by Elizabeth Strout. Head’s up: next month we will read the follow-up\, Olive\, Again. \nSummary: \nWinner of the Pulitzer Prize\, Olive Kitteridge offers profound insights into the human condition – its conflicts\, its tragedies and joys\, and the endurance it requires. \nAt times stern\, at other times patient\, at times perceptive\, at other times in sad denial\, Olive Kitteridge\, a retired schoolteacher\, deplores the changes in her little town of Crosby\, Maine\, and in the world at large\, but she doesn’t always recognize the changes in those around her: a lounge musician haunted by a past romance; a former student who has lost the will to live; Olive’s own adult child\, who feels tyrannized by her irrational sensitivities; and her husband\, Henry\, who finds his loyalty to his marriage both a blessing and a curse. \nAs the townspeople grapple with their problems\, mild and dire\, Olive is brought to a deeper understanding of herself and her life – sometimes painfully\, but always with ruthless honesty. (via goodreads)
URL:https://findleylibrary.org/event/book-club-32/
LOCATION:Alexander Findley Community Library
CATEGORIES:Book Club,Just For Fun,Programming,Summer Reading
END:VEVENT
BEGIN:VEVENT
DTSTART;TZID=America/New_York:20230713T150000
DTEND;TZID=America/New_York:20230713T170000
DTSTAMP:20260424T014940
CREATED:20230620T204527Z
LAST-MODIFIED:20230708T152431Z
UID:4441-1689260400-1689267600@findleylibrary.org
SUMMARY:Arts & Crafts for Adults
DESCRIPTION:This month we will be painting on glass. Various containers provided\, with limited supplies. You can bring your own if you want!
URL:https://findleylibrary.org/event/arts-crafts-for-adults-12/
LOCATION:Alexander Findley Community Library
CATEGORIES:Craft,Just For Fun,Programming
END:VEVENT
BEGIN:VEVENT
DTSTART;TZID=America/New_York:20230615T180000
DTEND;TZID=America/New_York:20230615T190000
DTSTAMP:20260424T014940
CREATED:20230522T211609Z
LAST-MODIFIED:20230522T213618Z
UID:4388-1686852000-1686855600@findleylibrary.org
SUMMARY:Book Club
DESCRIPTION:Join us in the library at 6pm for a discussion of June’s book\, Truly\, Madly\, Guilty by Liane Moriarty. \nSummary: \nDespite their differences\, Erika and Clementine have been best friends since they were children. So when Erika needs help\, Clementine should be the obvious person to turn to. Or so you’d think. \nFor Clementine\, as a mother of a two desperately trying to practice for the audition of a lifetime\, the last thing she needs is Erika asking for something\, again. \nBut the barbecue should be the perfect way to forget their problems for a while. Especially when their hosts\, Vid and Tiffany\, are only too happy to distract them. \nWhich is how it all spirals out of control…(via goodreads)
URL:https://findleylibrary.org/event/book-club-31/
LOCATION:Alexander Findley Community Library
CATEGORIES:Book Club,Just For Fun,Programming
END:VEVENT
BEGIN:VEVENT
DTSTART;TZID=America/New_York:20230608T150000
DTEND;TZID=America/New_York:20230608T170000
DTSTAMP:20260424T014940
CREATED:20230605T163244Z
LAST-MODIFIED:20230605T163244Z
UID:4406-1686236400-1686243600@findleylibrary.org
SUMMARY:Arts & Crafts for Adults
DESCRIPTION:This month we’re making a paper flower wreath\, perfect for summertime! Join us in the library on Thursday\, June 8th at 3pm. (image from Messy Little Monster)
URL:https://findleylibrary.org/event/arts-crafts-for-adults-11/
LOCATION:Alexander Findley Community Library
CATEGORIES:Craft,Just For Fun,Programming
END:VEVENT
BEGIN:VEVENT
DTSTART;TZID=America/New_York:20230527T110000
DTEND;TZID=America/New_York:20230527T120000
DTSTAMP:20260424T014940
CREATED:20230518T193413Z
LAST-MODIFIED:20230518T193413Z
UID:4380-1685185200-1685188800@findleylibrary.org
SUMMARY:Garden Club -- First Meeting!
DESCRIPTION:Our first meeting is coming up! We will be touring the garden to discuss what we have\, what we need\, and what we want to accomplish. We’ll also talk about Monarch Watch and other upcoming programs throughout the summer!\n\n\n\nMeets the last Saturday of the month at 11 am.\n\n\n\nCome when you can\, participate as much as you want.\n\n\n\nThere’s no pressure\, this is supposed to be fun!
URL:https://findleylibrary.org/event/garden-club-first-meeting/
LOCATION:Alexander Findley Community Library
CATEGORIES:Class,Just For Fun,Programming
END:VEVENT
BEGIN:VEVENT
DTSTART;TZID=America/New_York:20230518T180000
DTEND;TZID=America/New_York:20230518T190000
DTSTAMP:20260424T014940
CREATED:20230501T171158Z
LAST-MODIFIED:20230501T171158Z
UID:4335-1684432800-1684436400@findleylibrary.org
SUMMARY:Book Club
DESCRIPTION:Join us in the library at 6pm for a discussion of this month’s book\, The Book of Lost Friends by Lisa Wingate. \n  \nSummary: \nLisa Wingate brings to life stories from actual “Lost Friends” advertisements that appeared in Southern newspapers after the Civil War\, as freed slaves desperately searched for loved ones who had been sold off. \nLouisiana\, 1875 In the tumultuous aftermath of Reconstruction\, three young women set off as unwilling companions on a perilous quest: Lavinia\, the pampered heir to a now-destitute plantation; Juneau Jane\, her illegitimate free-born Creole half-sister; and Hannie\, Lavinia’s former slave. Each carries private wounds and powerful secrets as they head for Texas\, following dangerous roads rife with ruthless vigilantes and soldiers still fighting a war lost a decade before. For Lavinia and Juneau Jane\, the journey is one of inheritance and financial desperation\, but for Hannie\, torn from her mother and eight siblings before slavery’s end\, the pilgrimage westward reignites an agonizing question: Could her long-lost family still be out there? Beyond the swamps lie the seemingly limitless frontiers of Texas and\, improbably\, hope. \nLouisiana\, 1987 For first-year teacher Benedetta Silva\, a subsidized job at a poor rural school seems like the ticket to canceling her hefty student debt–until she lands in a tiny\, out-of-step Mississippi River town. Augustine\, Louisiana\, seems suspicious of new ideas and new people\, and Benny can scarcely comprehend the lives of her poverty-stricken students. But amid the gnarled oaks and run-down plantation homes lies the century-old history of three young women\, a long-ago journey\, and a hidden book that could change everything. (via goodreads)
URL:https://findleylibrary.org/event/book-club-30/
LOCATION:Alexander Findley Community Library
CATEGORIES:Book Club,Just For Fun,Programming
END:VEVENT
BEGIN:VEVENT
DTSTART;TZID=America/New_York:20230511T150000
DTEND;TZID=America/New_York:20230511T170000
DTSTAMP:20260424T014940
CREATED:20230501T172123Z
LAST-MODIFIED:20230504T182117Z
UID:4339-1683817200-1683824400@findleylibrary.org
SUMMARY:Arts & Crafts for Adults
DESCRIPTION:We’re going to découpage terra cotta pots. Supplies are limited so if you’ve never come to our craft class before\, please call ahead or just bring your own pot! We’ve got plenty of collage materials and Modge Podge. (image from the How-To Home)
URL:https://findleylibrary.org/event/arts-crafts-for-adults-10/
LOCATION:Alexander Findley Community Library
CATEGORIES:Craft,Just For Fun,Programming
END:VEVENT
BEGIN:VEVENT
DTSTART;TZID=America/New_York:20230506T100000
DTEND;TZID=America/New_York:20230506T160000
DTSTAMP:20260424T014940
CREATED:20230406T205710Z
LAST-MODIFIED:20230406T205710Z
UID:4299-1683367200-1683388800@findleylibrary.org
SUMMARY:Spring Craft Show Fundraiser!
DESCRIPTION:
URL:https://findleylibrary.org/event/spring-craft-show-fundraiser/
LOCATION:Findley Lake Fire hall\, 10372 Main Street\, Findley Lake\, 14736\, United States
CATEGORIES:Craft,Fundraiser,Just For Fun
END:VEVENT
BEGIN:VEVENT
DTSTART;TZID=America/New_York:20230422T110000
DTEND;TZID=America/New_York:20230422T140000
DTSTAMP:20260424T014940
CREATED:20230325T161844Z
LAST-MODIFIED:20230325T161844Z
UID:4270-1682161200-1682172000@findleylibrary.org
SUMMARY:Earth Day Celebration + Plant-stravaganza!
DESCRIPTION:We love Earth\, and we love Earth Day! Come celebrate with us: \n• Grab some flower/veggie seeds + plant cuttings to take home! \n• Make a newspaper pot + start a sunflower for the Library Garden! \n• Do a fun Earth Day craft! \n• Check out some books about starting a garden! \n• Sign up for the Garden Club!
URL:https://findleylibrary.org/event/earth-day-celebration-plant-stravaganza/
LOCATION:Alexander Findley Community Library
CATEGORIES:Craft,Just For Fun,Programming
END:VEVENT
BEGIN:VEVENT
DTSTART;TZID=America/New_York:20230413T150000
DTEND;TZID=America/New_York:20230413T170000
DTSTAMP:20260424T014940
CREATED:20230325T155917Z
LAST-MODIFIED:20230330T221011Z
UID:4264-1681398000-1681405200@findleylibrary.org
SUMMARY:Arts & Crafts for Adults
DESCRIPTION:Spring is springing and we can’t wait to dye some colorful speckled eggs! Join us in the library on Thursday\, April 13th at 3pm for some spring-y fun!
URL:https://findleylibrary.org/event/arts-crafts-for-adults-9/
LOCATION:Alexander Findley Community Library
CATEGORIES:Craft,Just For Fun,Programming
END:VEVENT
BEGIN:VEVENT
DTSTART;TZID=America/New_York:20230309T150000
DTEND;TZID=America/New_York:20230309T170000
DTSTAMP:20260424T014940
CREATED:20230202T194404Z
LAST-MODIFIED:20230202T194404Z
UID:4153-1678374000-1678381200@findleylibrary.org
SUMMARY:Arts & Crafts for Adults
DESCRIPTION:Coming soon!
URL:https://findleylibrary.org/event/arts-crafts-for-adults-8/
LOCATION:Alexander Findley Community Library
CATEGORIES:Craft,Just For Fun,Programming
END:VEVENT
BEGIN:VEVENT
DTSTART;TZID=America/New_York:20230216T180000
DTEND;TZID=America/New_York:20230216T190000
DTSTAMP:20260424T014940
CREATED:20230128T184913Z
LAST-MODIFIED:20230128T184952Z
UID:4127-1676570400-1676574000@findleylibrary.org
SUMMARY:Book Club
DESCRIPTION:Join us in the library at 6pm for a discussion of February’s book\, Wish You Were Here by Jodi Picoult.
URL:https://findleylibrary.org/event/book-club-27/
LOCATION:Alexander Findley Community Library
CATEGORIES:Book Club,Just For Fun,Programming
END:VEVENT
BEGIN:VEVENT
DTSTART;TZID=America/New_York:20230209T150000
DTEND;TZID=America/New_York:20230209T170000
DTSTAMP:20260424T014940
CREATED:20230202T171538Z
LAST-MODIFIED:20230202T171643Z
UID:4142-1675954800-1675962000@findleylibrary.org
SUMMARY:Arts & Crafts for Adults
DESCRIPTION:Join us as we make Valentine’s Day cards using watercolor and wax (crayons\, that is). We provide the materials\, just show up and have some fun!
URL:https://findleylibrary.org/event/arts-crafts-for-adults-7/
LOCATION:Alexander Findley Community Library
CATEGORIES:Craft,Just For Fun,Programming
END:VEVENT
BEGIN:VEVENT
DTSTART;TZID=America/New_York:20230204T090000
DTEND;TZID=America/New_York:20230204T140000
DTSTAMP:20260424T014940
CREATED:20230131T232800Z
LAST-MODIFIED:20230131T233431Z
UID:4132-1675501200-1675519200@findleylibrary.org
SUMMARY:Take Your Child to the Library Day!
DESCRIPTION:  \n  \n  \n  \n  \n  \n  \n  \n  \nJoin us this Saturday with the kids! Sign them up for their very own library card\, and then explore the Children’s Area. There will be book give-a-ways\, coloring sheets\, and hot cocoa.
URL:https://findleylibrary.org/event/take-your-child-to-the-library-day/
LOCATION:Alexander Findley Community Library
CATEGORIES:Just For Fun,Programming
END:VEVENT
BEGIN:VEVENT
DTSTART;TZID=America/New_York:20230119T180000
DTEND;TZID=America/New_York:20230119T190000
DTSTAMP:20260424T014940
CREATED:20221229T170649Z
LAST-MODIFIED:20221229T170649Z
UID:4064-1674151200-1674154800@findleylibrary.org
SUMMARY:Book Club
DESCRIPTION:Join us for the first Book Club of the New Year! We will be discussing Into the Wild by Jon Krakauer. Following the talk we will watch the movie version directed by Sean Penn. We’ll have some tea or cocoa and light snacks to enjoy as well.
URL:https://findleylibrary.org/event/book-club-16/
LOCATION:Alexander Findley Community Library
CATEGORIES:Book Club,Just For Fun,Programming
END:VEVENT
BEGIN:VEVENT
DTSTART;TZID=America/New_York:20230112T150000
DTEND;TZID=America/New_York:20230112T170000
DTSTAMP:20260424T014940
CREATED:20221229T171741Z
LAST-MODIFIED:20230109T165146Z
UID:4068-1673535600-1673542800@findleylibrary.org
SUMMARY:Arts & Crafts for Adults
DESCRIPTION:This month we will be making mini winter wreaths out of felt\, pipe cleaners\, and ribbon. Come and play!
URL:https://findleylibrary.org/event/arts-crafts-for-adults-6/
LOCATION:Alexander Findley Community Library
CATEGORIES:Craft,Just For Fun,Programming
END:VEVENT
BEGIN:VEVENT
DTSTART;TZID=America/New_York:20221208T150000
DTEND;TZID=America/New_York:20221208T170000
DTSTAMP:20260424T014940
CREATED:20221122T235049Z
LAST-MODIFIED:20221122T235049Z
UID:3945-1670511600-1670518800@findleylibrary.org
SUMMARY:Arts & Crafts for Adults
DESCRIPTION:Hey you grown-ups! Join us at 3pm on the 2nd Thursday of every month for a couple hours of Arts & Crafts. \nThis month we’ll be making pine cone bird feeders with peanut butter and bird seed. Let’s feed our feathered friends this winter.
URL:https://findleylibrary.org/event/arts-crafts-for-adults-5/
LOCATION:Alexander Findley Community Library
CATEGORIES:Craft,Just For Fun,Programming
END:VEVENT
BEGIN:VEVENT
DTSTART;TZID=America/New_York:20221110T150000
DTEND;TZID=America/New_York:20221110T170000
DTSTAMP:20260424T014940
CREATED:20220926T210017Z
LAST-MODIFIED:20221108T232808Z
UID:3828-1668092400-1668099600@findleylibrary.org
SUMMARY:Arts & Crafts for Adults
DESCRIPTION:Join us at 3pm for a craft! This month\, we’ll be playing with pine cones!
URL:https://findleylibrary.org/event/arts-crafts-for-adults-4/
LOCATION:Alexander Findley Community Library
CATEGORIES:Craft,Just For Fun,Programming
END:VEVENT
BEGIN:VEVENT
DTSTART;TZID=America/New_York:20221013T150000
DTEND;TZID=America/New_York:20221013T170000
DTSTAMP:20260424T014940
CREATED:20220926T205142Z
LAST-MODIFIED:20220926T205142Z
UID:3824-1665673200-1665680400@findleylibrary.org
SUMMARY:Arts & Crafts for Adults
DESCRIPTION:Join us as we make a fun (and maybe spooky?) cat using cardboard\, paint\, beans\, and yarn.
URL:https://findleylibrary.org/event/arts-crafts-for-adults-3/
LOCATION:Alexander Findley Community Library
CATEGORIES:Craft,Just For Fun
END:VEVENT
BEGIN:VEVENT
DTSTART;TZID=America/New_York:20220908T150000
DTEND;TZID=America/New_York:20220908T170000
DTSTAMP:20260424T014940
CREATED:20220823T195632Z
LAST-MODIFIED:20220823T195632Z
UID:3760-1662649200-1662656400@findleylibrary.org
SUMMARY:Arts and Crafts for Adults
DESCRIPTION:Coming soon!
URL:https://findleylibrary.org/event/arts-and-crafts-for-adults/
LOCATION:Alexander Findley Community Library
CATEGORIES:Craft,Just For Fun,Programming
END:VEVENT
BEGIN:VEVENT
DTSTART;TZID=America/New_York:20220811T150000
DTEND;TZID=America/New_York:20220811T170000
DTSTAMP:20260424T014940
CREATED:20220806T145502Z
LAST-MODIFIED:20220806T145646Z
UID:3667-1660230000-1660237200@findleylibrary.org
SUMMARY:Arts & Crafts for Adults!
DESCRIPTION:Come on down and paint a decorative bird house! Don’t worry if you’re not crafty! We just want people to try something new and have some fun.
URL:https://findleylibrary.org/event/arts-crafts-for-adults-2/
LOCATION:Alexander Findley Community Library
CATEGORIES:Craft,Just For Fun,Summer Reading
END:VEVENT
BEGIN:VEVENT
DTSTART;TZID=America/New_York:20220803T130000
DTEND;TZID=America/New_York:20220803T140000
DTSTAMP:20260424T014940
CREATED:20220808T130923Z
LAST-MODIFIED:20220808T130923Z
UID:3685-1659531600-1659535200@findleylibrary.org
SUMMARY:Final Collaborative Wednesday: Mood Jars!
DESCRIPTION:Today is our last Collaborative Wednesday with the Clymer-French Creek Free Library and the Clymer-Findley Lake Summer Recreation Program. We will be making mood jars! \n  \nMany thanks to everyone who participated this year! We learned a lot\, and can’t wait to show off our crafts.
URL:https://findleylibrary.org/event/final-collaborative-wednesday-mood-jars/
LOCATION:Alexander Findley Community Library
CATEGORIES:1000 Hours Outside Activity,Craft,Just For Fun,storytime,Summer Reading
END:VEVENT
BEGIN:VEVENT
DTSTART;TZID=America/New_York:20220714T140000
DTEND;TZID=America/New_York:20220714T150000
DTSTAMP:20260424T014940
CREATED:20220707T141429Z
LAST-MODIFIED:20220707T204118Z
UID:3604-1657807200-1657810800@findleylibrary.org
SUMMARY:Arts & Crafts for Adults
DESCRIPTION:Join us as we make some fun and easy frames out of mat board\, then decorate the frame however you want. Bring a picture you’ve been wanting to have framed!
URL:https://findleylibrary.org/event/arts-crafts-for-adults/
LOCATION:Alexander Findley Community Library
CATEGORIES:Craft,Just For Fun,Summer Reading
END:VEVENT
BEGIN:VEVENT
DTSTART;TZID=America/New_York:20220409T110000
DTEND;TZID=America/New_York:20220409T130000
DTSTAMP:20260424T014940
CREATED:20220328T125649Z
LAST-MODIFIED:20220328T125649Z
UID:3349-1649502000-1649509200@findleylibrary.org
SUMMARY:Easter Party!
DESCRIPTION:
URL:https://findleylibrary.org/event/easter-party/
LOCATION:Alexander Findley Community Library
CATEGORIES:Contest,Just For Fun
END:VEVENT
END:VCALENDAR