BEGIN:VCALENDAR
VERSION:2.0
PRODID:-//Alexander Findley Community Library - ECPv6.15.20//NONSGML v1.0//EN
CALSCALE:GREGORIAN
METHOD:PUBLISH
X-WR-CALNAME:Alexander Findley Community Library
X-ORIGINAL-URL:https://findleylibrary.org
X-WR-CALDESC:Events for Alexander Findley Community Library
REFRESH-INTERVAL;VALUE=DURATION:PT1H
X-Robots-Tag:noindex
X-PUBLISHED-TTL:PT1H
BEGIN:VTIMEZONE
TZID:America/New_York
BEGIN:DAYLIGHT
TZOFFSETFROM:-0500
TZOFFSETTO:-0400
TZNAME:EDT
DTSTART:20230312T070000
END:DAYLIGHT
BEGIN:STANDARD
TZOFFSETFROM:-0400
TZOFFSETTO:-0500
TZNAME:EST
DTSTART:20231105T060000
END:STANDARD
BEGIN:DAYLIGHT
TZOFFSETFROM:-0500
TZOFFSETTO:-0400
TZNAME:EDT
DTSTART:20240310T070000
END:DAYLIGHT
BEGIN:STANDARD
TZOFFSETFROM:-0400
TZOFFSETTO:-0500
TZNAME:EST
DTSTART:20241103T060000
END:STANDARD
BEGIN:DAYLIGHT
TZOFFSETFROM:-0500
TZOFFSETTO:-0400
TZNAME:EDT
DTSTART:20250309T070000
END:DAYLIGHT
BEGIN:STANDARD
TZOFFSETFROM:-0400
TZOFFSETTO:-0500
TZNAME:EST
DTSTART:20251102T060000
END:STANDARD
END:VTIMEZONE
BEGIN:VEVENT
DTSTART;TZID=America/New_York:20240420T110000
DTEND;TZID=America/New_York:20240420T130000
DTSTAMP:20260425T163303
CREATED:20240323T165912Z
LAST-MODIFIED:20240323T165912Z
UID:5159-1713610800-1713618000@findleylibrary.org
SUMMARY:Earth Day Celebration + Plantstravaganza!
DESCRIPTION:Join us as we celebrate our favorite planet! \n• Check out books on gardening\, animals + more \n• Do a fun Earth Day Craft (or two) \n• Join our Garden Club and help maintain the library pollinator garden \n• Snag some seeds from our Seed Library \n• Start some seeds to take home \n• Take home houseplant cuttings
URL:https://findleylibrary.org/event/earth-day-celebration-plantstravaganza/
LOCATION:Alexander Findley Community Library
CATEGORIES:Craft,Garden Club,Just For Fun,Programming
END:VEVENT
BEGIN:VEVENT
DTSTART;TZID=America/New_York:20240427T110000
DTEND;TZID=America/New_York:20240427T120000
DTSTAMP:20260425T163303
CREATED:20240328T184507Z
LAST-MODIFIED:20240328T184545Z
UID:5181-1714215600-1714219200@findleylibrary.org
SUMMARY:Garden Club
DESCRIPTION:It’s been a long winter\, but Garden Club is back! We’ll be giving the garden a spring clean\, and will continue working on edging and other goals for the season. Inside\, there will be seeds (plants and veggie) for Green Thumbs to try out at home. \nMeets the last Saturday of the month at 11 am. Some tools and gloves are provided\, but feel free to bring your own favorites\, too. \nCome when you can\, participate as much as you want. Get a garden buddy to make it more fun!
URL:https://findleylibrary.org/event/garden-club-4/
LOCATION:Alexander Findley Community Library
CATEGORIES:Garden Club,Just For Fun,Programming
END:VEVENT
END:VCALENDAR