BEGIN:VCALENDAR
VERSION:2.0
PRODID:-//Alexander Findley Community Library - ECPv6.15.20//NONSGML v1.0//EN
CALSCALE:GREGORIAN
METHOD:PUBLISH
X-ORIGINAL-URL:https://findleylibrary.org
X-WR-CALDESC:Events for Alexander Findley Community Library
REFRESH-INTERVAL;VALUE=DURATION:PT1H
X-Robots-Tag:noindex
X-PUBLISHED-TTL:PT1H
BEGIN:VTIMEZONE
TZID:America/New_York
BEGIN:DAYLIGHT
TZOFFSETFROM:-0500
TZOFFSETTO:-0400
TZNAME:EDT
DTSTART:20200308T070000
END:DAYLIGHT
BEGIN:STANDARD
TZOFFSETFROM:-0400
TZOFFSETTO:-0500
TZNAME:EST
DTSTART:20201101T060000
END:STANDARD
BEGIN:DAYLIGHT
TZOFFSETFROM:-0500
TZOFFSETTO:-0400
TZNAME:EDT
DTSTART:20210314T070000
END:DAYLIGHT
BEGIN:STANDARD
TZOFFSETFROM:-0400
TZOFFSETTO:-0500
TZNAME:EST
DTSTART:20211107T060000
END:STANDARD
BEGIN:DAYLIGHT
TZOFFSETFROM:-0500
TZOFFSETTO:-0400
TZNAME:EDT
DTSTART:20220313T070000
END:DAYLIGHT
BEGIN:STANDARD
TZOFFSETFROM:-0400
TZOFFSETTO:-0500
TZNAME:EST
DTSTART:20221106T060000
END:STANDARD
BEGIN:DAYLIGHT
TZOFFSETFROM:-0500
TZOFFSETTO:-0400
TZNAME:EDT
DTSTART:20230312T070000
END:DAYLIGHT
BEGIN:STANDARD
TZOFFSETFROM:-0400
TZOFFSETTO:-0500
TZNAME:EST
DTSTART:20231105T060000
END:STANDARD
BEGIN:DAYLIGHT
TZOFFSETFROM:-0500
TZOFFSETTO:-0400
TZNAME:EDT
DTSTART:20240310T070000
END:DAYLIGHT
BEGIN:STANDARD
TZOFFSETFROM:-0400
TZOFFSETTO:-0500
TZNAME:EST
DTSTART:20241103T060000
END:STANDARD
BEGIN:DAYLIGHT
TZOFFSETFROM:-0500
TZOFFSETTO:-0400
TZNAME:EDT
DTSTART:20250309T070000
END:DAYLIGHT
BEGIN:STANDARD
TZOFFSETFROM:-0400
TZOFFSETTO:-0500
TZNAME:EST
DTSTART:20251102T060000
END:STANDARD
END:VTIMEZONE
BEGIN:VEVENT
DTSTART;TZID=America/New_York:20240608T090000
DTEND;TZID=America/New_York:20240608T103000
DTSTAMP:20260421T115038
CREATED:20240511T134810Z
LAST-MODIFIED:20240511T134949Z
UID:5329-1717837200-1717842600@findleylibrary.org
SUMMARY:Annual Meeting
DESCRIPTION:The AFCL Board of Trustees will hold its Annual Meeting in the Young at Heart room. They will discuss current library events and will elect Executive positions. Meetings are open to the public.
URL:https://findleylibrary.org/event/annual-meeting-5/
LOCATION:Alexander Findley Community Library
CATEGORIES:annual meeting
END:VEVENT
BEGIN:VEVENT
DTSTART;TZID=America/New_York:20230610T090000
DTEND;TZID=America/New_York:20230610T100000
DTSTAMP:20260421T115038
CREATED:20230522T220048Z
LAST-MODIFIED:20230601T194834Z
UID:4392-1686387600-1686391200@findleylibrary.org
SUMMARY:Annual Meeting
DESCRIPTION:Join us in the Young at Heart Room for the Annual Meeting of the AFCL board of trustees\, where we will elect officers and discuss the events of the past year\, and plan for the next. Meeting is open to the public.
URL:https://findleylibrary.org/event/annual-meeting-4/
LOCATION:Alexander Findley Community Library
CATEGORIES:annual meeting,board meeting
END:VEVENT
BEGIN:VEVENT
DTSTART;TZID=America/New_York:20220611T090000
DTEND;TZID=America/New_York:20220611T223000
DTSTAMP:20260421T115038
CREATED:20220127T214208Z
LAST-MODIFIED:20220618T140943Z
UID:3167-1654938000-1654986600@findleylibrary.org
SUMMARY:Annual Meeting
DESCRIPTION:The AFCL board will hold their Annual Meeting in the Young at Heart Room at 9am to discuss library matters and hold elections. \nMeetings are open to the public.
URL:https://findleylibrary.org/event/annual-meeting-3/
LOCATION:Alexander Findley Community Library
CATEGORIES:annual meeting
END:VEVENT
BEGIN:VEVENT
DTSTART;TZID=America/New_York:20210612T090000
DTEND;TZID=America/New_York:20210612T100000
DTSTAMP:20260421T115038
CREATED:20210603T180131Z
LAST-MODIFIED:20210603T180657Z
UID:2468-1623488400-1623492000@findleylibrary.org
SUMMARY:AFCL Annual Meeting
DESCRIPTION:Alexander Findley Community Library will be having our annual meeting at 9am on Saturday\, June 12th in the Community Center Gym. Masks and distancing are recommended. This meeting is free and open to the public.
URL:https://findleylibrary.org/event/afcl-annual-meeting/
LOCATION:Alexander Findley Community Library
CATEGORIES:annual meeting
END:VEVENT
END:VCALENDAR